BEGIN:VCALENDAR
VERSION:2.0
PRODID:-//Cask Limerick - ECPv6.15.20//NONSGML v1.0//EN
CALSCALE:GREGORIAN
METHOD:PUBLISH
X-ORIGINAL-URL:https://casklimerick.com
X-WR-CALDESC:Events for Cask Limerick
REFRESH-INTERVAL;VALUE=DURATION:PT1H
X-Robots-Tag:noindex
X-PUBLISHED-TTL:PT1H
BEGIN:VTIMEZONE
TZID:UTC
BEGIN:STANDARD
TZOFFSETFROM:+0000
TZOFFSETTO:+0000
TZNAME:UTC
DTSTART:20220101T000000
END:STANDARD
END:VTIMEZONE
BEGIN:VEVENT
DTSTART;TZID=UTC:20231020T000000
DTEND;TZID=UTC:20231021T235900
DTSTAMP:20260424T225017
CREATED:20231004T115337Z
LAST-MODIFIED:20231004T115337Z
UID:5071-1697760000-1697932740@casklimerick.com
SUMMARY:test event
DESCRIPTION:opqkdpowqdkqowdq \n  \n \n 
URL:https://casklimerick.com/event/test-event-2/
LOCATION:cask\, limerick\, limerick\, Albania
ORGANIZER;CN="CASK Limerick":MAILTO:hiya@casklimerick.com
END:VEVENT
BEGIN:VEVENT
DTSTART;TZID=UTC:20231020T000000
DTEND;TZID=UTC:20231021T235900
DTSTAMP:20260424T225017
CREATED:20230926T193139Z
LAST-MODIFIED:20231004T114611Z
UID:5000-1697760000-1697932740@casklimerick.com
SUMMARY:test event
DESCRIPTION:opqkdpowqdkqowdq \n  \n \n 
URL:https://casklimerick.com/event/test-event/
LOCATION:cask\, limerick\, limerick\, Albania
ORGANIZER;CN="CASK Limerick":MAILTO:hiya@casklimerick.com
END:VEVENT
END:VCALENDAR